BEGIN:VCALENDAR
VERSION:2.0
PRODID:-//ETUSIVU - ECPv6.15.20//NONSGML v1.0//EN
CALSCALE:GREGORIAN
METHOD:PUBLISH
X-ORIGINAL-URL:https://www.tul-lappi.fi
X-WR-CALDESC:Tapahtumat ETUSIVU
REFRESH-INTERVAL;VALUE=DURATION:PT1H
X-Robots-Tag:noindex
X-PUBLISHED-TTL:PT1H
BEGIN:VTIMEZONE
TZID:UTC
BEGIN:STANDARD
TZOFFSETFROM:+0000
TZOFFSETTO:+0000
TZNAME:UTC
DTSTART:20230101T000000
END:STANDARD
END:VTIMEZONE
BEGIN:VEVENT
DTSTART;TZID=UTC:20240211T120000
DTEND;TZID=UTC:20240211T150000
DTSTAMP:20260421T154315
CREATED:20240205T072118Z
LAST-MODIFIED:20240205T072118Z
UID:1253-1707652800-1707663600@www.tul-lappi.fi
SUMMARY:Liikkeelle!-Laskiaisena Meripuistossa
DESCRIPTION:Liikkeelle!-Laskiaisena Meripuistossa\nPerinteinen TUL:n Lapin piirin laskiaistapahtuma Kemin Meripuiston mäenlaskupaikalla Laskiaissunnuntaina 11.2.2024 kello 12-15.\nOmat pulkat ja muut laskuvälineet mukaan.\nTarjoamme kahvia\, mehua ja pullaa.\nJärjestäjä ei vakuuta osallistujia.\nNopeusmittarilla voidaan mitata laskunopeutesi.\nTERVETULOA!
URL:https://www.tul-lappi.fi/event/liikkeelle-laskiaisena-meripuistossa/
ORGANIZER;CN="TUL%3An Lapin piiri":MAILTO:pirkko.pehkonen@tul.fi
END:VEVENT
END:VCALENDAR